BEGIN:VCALENDAR
VERSION:2.0
PRODID:-//Mission Locale de Rouen - ECPv6.15.18//NONSGML v1.0//EN
CALSCALE:GREGORIAN
METHOD:PUBLISH
X-ORIGINAL-URL:https://missionlocalerouen.fr
X-WR-CALDESC:Évènements pour Mission Locale de Rouen
REFRESH-INTERVAL;VALUE=DURATION:PT1H
X-Robots-Tag:noindex
X-PUBLISHED-TTL:PT1H
BEGIN:VTIMEZONE
TZID:Europe/Paris
BEGIN:DAYLIGHT
TZOFFSETFROM:+0100
TZOFFSETTO:+0200
TZNAME:CEST
DTSTART:20160327T010000
END:DAYLIGHT
BEGIN:STANDARD
TZOFFSETFROM:+0200
TZOFFSETTO:+0100
TZNAME:CET
DTSTART:20161030T010000
END:STANDARD
BEGIN:DAYLIGHT
TZOFFSETFROM:+0100
TZOFFSETTO:+0200
TZNAME:CEST
DTSTART:20170326T010000
END:DAYLIGHT
BEGIN:STANDARD
TZOFFSETFROM:+0200
TZOFFSETTO:+0100
TZNAME:CET
DTSTART:20171029T010000
END:STANDARD
BEGIN:DAYLIGHT
TZOFFSETFROM:+0100
TZOFFSETTO:+0200
TZNAME:CEST
DTSTART:20180325T010000
END:DAYLIGHT
BEGIN:STANDARD
TZOFFSETFROM:+0200
TZOFFSETTO:+0100
TZNAME:CET
DTSTART:20181028T010000
END:STANDARD
END:VTIMEZONE
BEGIN:VEVENT
DTSTART;TZID=Europe/Paris:20171017T080000
DTEND;TZID=Europe/Paris:20171017T170000
DTSTAMP:20260421T204607
CREATED:20171019T121521Z
LAST-MODIFIED:20171019T121521Z
UID:1133-1508227200-1508259600@missionlocalerouen.fr
SUMMARY:Cafés de l'emploi
DESCRIPTION:Inscription sur le site www.cafedelemploi.fr \nVous êtes invité à vous présenter au café de l’emploi\, muni de votre CV.
URL:https://missionlocalerouen.fr/event/cafes-de-lemploi/
LOCATION:Normandie
END:VEVENT
END:VCALENDAR